BEGIN:VCALENDAR
VERSION:2.0
PRODID:-//World Affairs Council of Maine - ECPv6.15.18//NONSGML v1.0//EN
CALSCALE:GREGORIAN
METHOD:PUBLISH
X-ORIGINAL-URL:https://wacmaine.org
X-WR-CALDESC:Events for World Affairs Council of Maine
REFRESH-INTERVAL;VALUE=DURATION:PT1H
X-Robots-Tag:noindex
X-PUBLISHED-TTL:PT1H
BEGIN:VTIMEZONE
TZID:America/New_York
BEGIN:DAYLIGHT
TZOFFSETFROM:-0500
TZOFFSETTO:-0400
TZNAME:EDT
DTSTART:20230312T070000
END:DAYLIGHT
BEGIN:STANDARD
TZOFFSETFROM:-0400
TZOFFSETTO:-0500
TZNAME:EST
DTSTART:20231105T060000
END:STANDARD
BEGIN:DAYLIGHT
TZOFFSETFROM:-0500
TZOFFSETTO:-0400
TZNAME:EDT
DTSTART:20240310T070000
END:DAYLIGHT
BEGIN:STANDARD
TZOFFSETFROM:-0400
TZOFFSETTO:-0500
TZNAME:EST
DTSTART:20241103T060000
END:STANDARD
BEGIN:DAYLIGHT
TZOFFSETFROM:-0500
TZOFFSETTO:-0400
TZNAME:EDT
DTSTART:20250309T070000
END:DAYLIGHT
BEGIN:STANDARD
TZOFFSETFROM:-0400
TZOFFSETTO:-0500
TZNAME:EST
DTSTART:20251102T060000
END:STANDARD
END:VTIMEZONE
BEGIN:VEVENT
DTSTART;TZID=America/New_York:20240815T100000
DTEND;TZID=America/New_York:20240815T110000
DTSTAMP:20260421T151631
CREATED:20240812T133821Z
LAST-MODIFIED:20240812T133821Z
UID:10000068-1723716000-1723719600@wacmaine.org
SUMMARY:Coffee and Discussion: The Situation in Kenya
DESCRIPTION:Join the World Affairs Council of Maine in Coffee and Discussion to consider the protests in Kenya regarding the ongoing debt crisis. REGISTER \nSuggested readings:\n• Cohen\, P.\, & Bradsher\, K. (2024\, June 26). Behind the deadly unrest in Kenya is a staggering and painful national debt. The New York Times. \n• Romeu\, R. (2024\, April 18). The Emerging Global Debt Crisis and the Role of International Aid. CSIS. \n• Cohen\, P. (2024\, June 14). $29 trillion: that’s how much debt emerging nations are facing. The New York Times. \n• Al Jazeera English. (2024\, January 6). Is a global debt crisis looming? | Counting the Cost [Video]. YouTube. \n• A world of debt dashboard. (2024.). UNCTAD.
URL:https://wacmaine.org/event/coffee-and-discussion-the-situation-in-kenya/
LOCATION:Falmouth Memorial Library\, 5 Lunt Road\, Falmouth\, ME\, 04105\, United States
CATEGORIES:Coffee and Discussion
ATTACH;FMTTYPE=image/png:https://wacmaine.org/wp-content/uploads/2024/05/FY25-WEB-Coffe-Icon-e1722544254657.png
ORGANIZER;CN="World Affairs Council of Maine":MAILTO:info@wacmaine.org
END:VEVENT
END:VCALENDAR