BEGIN:VCALENDAR
VERSION:2.0
PRODID:-//World Affairs Council of Maine - ECPv6.15.18//NONSGML v1.0//EN
CALSCALE:GREGORIAN
METHOD:PUBLISH
X-ORIGINAL-URL:https://wacmaine.org
X-WR-CALDESC:Events for World Affairs Council of Maine
REFRESH-INTERVAL;VALUE=DURATION:PT1H
X-Robots-Tag:noindex
X-PUBLISHED-TTL:PT1H
BEGIN:VTIMEZONE
TZID:America/New_York
BEGIN:DAYLIGHT
TZOFFSETFROM:-0500
TZOFFSETTO:-0400
TZNAME:EDT
DTSTART:20230312T070000
END:DAYLIGHT
BEGIN:STANDARD
TZOFFSETFROM:-0400
TZOFFSETTO:-0500
TZNAME:EST
DTSTART:20231105T060000
END:STANDARD
BEGIN:DAYLIGHT
TZOFFSETFROM:-0500
TZOFFSETTO:-0400
TZNAME:EDT
DTSTART:20240310T070000
END:DAYLIGHT
BEGIN:STANDARD
TZOFFSETFROM:-0400
TZOFFSETTO:-0500
TZNAME:EST
DTSTART:20241103T060000
END:STANDARD
BEGIN:DAYLIGHT
TZOFFSETFROM:-0500
TZOFFSETTO:-0400
TZNAME:EDT
DTSTART:20250309T070000
END:DAYLIGHT
BEGIN:STANDARD
TZOFFSETFROM:-0400
TZOFFSETTO:-0500
TZNAME:EST
DTSTART:20251102T060000
END:STANDARD
END:VTIMEZONE
BEGIN:VEVENT
DTSTART;TZID=America/New_York:20240827T190000
DTEND;TZID=America/New_York:20240827T210000
DTSTAMP:20260421T133914
CREATED:20240812T132145Z
LAST-MODIFIED:20240812T132145Z
UID:10000067-1724785200-1724792400@wacmaine.org
SUMMARY:First Hand Impressions of the Path to Peace in the Middle East
DESCRIPTION:Freeport Speech will gather three individuals with extraordinary insight into the peace process for a discussion about finding peace in the Middle East. On August 27th at 7pm\, at the Freeport Performing Arts Center\, Martin Fletcher\, former NBC News Tel Aviv Bureau Chief and award winning author\, and Aaron David Miller\, an American Middle East analyst\, author\, and negotiator at the State Department\, will have an open conversation moderated by NPR’s International Affairs Correspondent\, Jackie Northam. Tickets are $20 and available through FreeportSpeech.org or on Eventbrite.
URL:https://wacmaine.org/event/first-hand-impressions-of-the-path-to-peace-in-the-middle-east/
LOCATION:Freeport Performing Arts Center\, 30 Holbrook St\, Freeport\, ME\, 04032
CATEGORIES:Community
ORGANIZER;CN="Freeport Speech":MAILTO:admin@FreeportSpeech.org
END:VEVENT
END:VCALENDAR