BEGIN:VCALENDAR
VERSION:2.0
PRODID:-//World Affairs Council of Maine - ECPv6.15.18//NONSGML v1.0//EN
CALSCALE:GREGORIAN
METHOD:PUBLISH
X-ORIGINAL-URL:https://wacmaine.org
X-WR-CALDESC:Events for World Affairs Council of Maine
REFRESH-INTERVAL;VALUE=DURATION:PT1H
X-Robots-Tag:noindex
X-PUBLISHED-TTL:PT1H
BEGIN:VTIMEZONE
TZID:America/New_York
BEGIN:DAYLIGHT
TZOFFSETFROM:-0500
TZOFFSETTO:-0400
TZNAME:EDT
DTSTART:20230312T070000
END:DAYLIGHT
BEGIN:STANDARD
TZOFFSETFROM:-0400
TZOFFSETTO:-0500
TZNAME:EST
DTSTART:20231105T060000
END:STANDARD
BEGIN:DAYLIGHT
TZOFFSETFROM:-0500
TZOFFSETTO:-0400
TZNAME:EDT
DTSTART:20240310T070000
END:DAYLIGHT
BEGIN:STANDARD
TZOFFSETFROM:-0400
TZOFFSETTO:-0500
TZNAME:EST
DTSTART:20241103T060000
END:STANDARD
BEGIN:DAYLIGHT
TZOFFSETFROM:-0500
TZOFFSETTO:-0400
TZNAME:EDT
DTSTART:20250309T070000
END:DAYLIGHT
BEGIN:STANDARD
TZOFFSETFROM:-0400
TZOFFSETTO:-0500
TZNAME:EST
DTSTART:20251102T060000
END:STANDARD
END:VTIMEZONE
BEGIN:VEVENT
DTSTART;TZID=America/New_York:20240912T190000
DTEND;TZID=America/New_York:20240912T200000
DTSTAMP:20260421T134651
CREATED:20240908T191243Z
LAST-MODIFIED:20240908T191527Z
UID:10000069-1726167600-1726171200@wacmaine.org
SUMMARY:Two Truths in One Heart\, Two Peoples in One Land: Community Event by Jewish Community Alliance
DESCRIPTION:Free but advance registration is required by  September 10. \nNoor Awad & Rabbi Hanan Schlesinger are leaders of the Judea & Samaria/the West Bank-based Roots/Shorashim/Judur\, an Israeli-Palestinian grassroots initiative for understanding\, non-violence\, and transformation. They represent a unique network of Israelis and Palestinians who have come to see each other as partners in the work to make changes to reduce tension\, prevent escalation\, and end the conflict. Their goal is to challenge the two communities’ assumptions for each other and promote open dialogue. Join us at Temple Beth El in Portland for this important conversation as Rav Hanan and Noor share their personal experiences before and after Oct 7th\, 2023. They will also share how their perspectives\, their work\, and their societies have and have not been changed since the war\, and what to expect next in the big picture towards the common goal of peace in the Middle East. \nRoots/Shorashim/Judur is an Israeli-Palestinian grassroots initiative for understanding\, nonviolence and transformation based in Judea & Samaria/the West Bank- is a unique network of local Palestinians and Israelis who have come to see each other as the partners we both need to make changes to end our conflict. Based on mutual recognition of each People’s national identity and connection to the Land\, we are challenging the assumptions our communities hold about each other\, building trust and creating a new discourse around the conflict in our respective societies. Learn more at https://www.friendsofroots.net/ \nThis community program is generously co-sponsored by Temple Beth El (Portland)\, Congregation Bet Ha’am\, and the JCA.
URL:https://wacmaine.org/event/two-truths-in-one-heart-two-peoples-in-one-land-community-event-by-jewish-community-allianc/
LOCATION:Temple Beth El\, 400 Deering Ave\, Portland\, ME\, 04103
CATEGORIES:Community
END:VEVENT
END:VCALENDAR