BEGIN:VCALENDAR
VERSION:2.0
PRODID:-//World Affairs Council of Maine - ECPv6.15.18//NONSGML v1.0//EN
CALSCALE:GREGORIAN
METHOD:PUBLISH
X-WR-CALNAME:World Affairs Council of Maine
X-ORIGINAL-URL:https://wacmaine.org
X-WR-CALDESC:Events for World Affairs Council of Maine
REFRESH-INTERVAL;VALUE=DURATION:PT1H
X-Robots-Tag:noindex
X-PUBLISHED-TTL:PT1H
BEGIN:VTIMEZONE
TZID:America/New_York
BEGIN:DAYLIGHT
TZOFFSETFROM:-0500
TZOFFSETTO:-0400
TZNAME:EDT
DTSTART:20230312T070000
END:DAYLIGHT
BEGIN:STANDARD
TZOFFSETFROM:-0400
TZOFFSETTO:-0500
TZNAME:EST
DTSTART:20231105T060000
END:STANDARD
BEGIN:DAYLIGHT
TZOFFSETFROM:-0500
TZOFFSETTO:-0400
TZNAME:EDT
DTSTART:20240310T070000
END:DAYLIGHT
BEGIN:STANDARD
TZOFFSETFROM:-0400
TZOFFSETTO:-0500
TZNAME:EST
DTSTART:20241103T060000
END:STANDARD
BEGIN:DAYLIGHT
TZOFFSETFROM:-0500
TZOFFSETTO:-0400
TZNAME:EDT
DTSTART:20250309T070000
END:DAYLIGHT
BEGIN:STANDARD
TZOFFSETFROM:-0400
TZOFFSETTO:-0500
TZNAME:EST
DTSTART:20251102T060000
END:STANDARD
END:VTIMEZONE
BEGIN:VEVENT
DTSTART;TZID=America/New_York:20240920T083000
DTEND;TZID=America/New_York:20240920T153000
DTSTAMP:20260421T133822
CREATED:20240912T175405Z
LAST-MODIFIED:20240912T184947Z
UID:10000071-1726821000-1726846200@wacmaine.org
SUMMARY:Global Security Forum 2024
DESCRIPTION:We are pleased to partner with the World Affairs Council of Connecticut on their annual Global Security Forum: Power Plays. The 2024 Global Security Forum (GSF) is a leading goal summit that brings together the world’s top leaders and experts in cutting-edge conversations on the most critical security concerns we face and the Power Plays that will decided our future. World Affairs Council of Maine members are invited to attend in person or virtually on Friday\, September 20th. \nA full list of speakers and schedule is available HERE. \nTickets can be found HERE
URL:https://wacmaine.org/event/global-security-forum-2024/
LOCATION:Goodwin University East\, 1 Riverside Dr\, East Hartford\, 06118
CATEGORIES:In Partnership
ORGANIZER;CN="World Affairs Council of Maine":MAILTO:info@wacmaine.org
END:VEVENT
END:VCALENDAR