BEGIN:VCALENDAR
VERSION:2.0
PRODID:-//World Affairs Council of Maine - ECPv6.15.18//NONSGML v1.0//EN
CALSCALE:GREGORIAN
METHOD:PUBLISH
X-ORIGINAL-URL:https://wacmaine.org
X-WR-CALDESC:Events for World Affairs Council of Maine
REFRESH-INTERVAL;VALUE=DURATION:PT1H
X-Robots-Tag:noindex
X-PUBLISHED-TTL:PT1H
BEGIN:VTIMEZONE
TZID:America/New_York
BEGIN:DAYLIGHT
TZOFFSETFROM:-0500
TZOFFSETTO:-0400
TZNAME:EDT
DTSTART:20230312T070000
END:DAYLIGHT
BEGIN:STANDARD
TZOFFSETFROM:-0400
TZOFFSETTO:-0500
TZNAME:EST
DTSTART:20231105T060000
END:STANDARD
BEGIN:DAYLIGHT
TZOFFSETFROM:-0500
TZOFFSETTO:-0400
TZNAME:EDT
DTSTART:20240310T070000
END:DAYLIGHT
BEGIN:STANDARD
TZOFFSETFROM:-0400
TZOFFSETTO:-0500
TZNAME:EST
DTSTART:20241103T060000
END:STANDARD
BEGIN:DAYLIGHT
TZOFFSETFROM:-0500
TZOFFSETTO:-0400
TZNAME:EDT
DTSTART:20250309T070000
END:DAYLIGHT
BEGIN:STANDARD
TZOFFSETFROM:-0400
TZOFFSETTO:-0500
TZNAME:EST
DTSTART:20251102T060000
END:STANDARD
END:VTIMEZONE
BEGIN:VEVENT
DTSTART;TZID=America/New_York:20240926T183000
DTEND;TZID=America/New_York:20240926T200000
DTSTAMP:20260421T134650
CREATED:20240912T181005Z
LAST-MODIFIED:20240912T185005Z
UID:10000072-1727375400-1727380800@wacmaine.org
SUMMARY:Empowering Women and Girls with Disabilities: Fighting Discrimination\, and Promoting Inclusion
DESCRIPTION:This year’s lecture takes place this month and will feature Juliet Mwongeli Muema and Maria Omare\, both of Kenya. Muema and Omare will present their lecture\, Empowering Women and Girls with Disabilities: Fighting Discrimination\, and Promoting Inclusion\, on Thursday\, September 26\, from 6:30 – 8 p.m. at Hannaford Hall. Maria is a distinguished disability inclusion advocate who\, as the Founder and Executive Director of The Action Foundation (TAF)\, has devoted her career to building inclusive and resilient communities where those with disabilities can thrive. Juliet is a visually impaired sustainable human development advocate\, para-cyclist\, and inclusive women’s rights advocate. In addition to her role as a Program Officer for The Action Foundation’s Adolescent Girls and Young Women’s Empowerment Program\, Juliet brings a wealth of experience as a global para-cyclist. Having competed internationally\, she uses her platform to challenge societal perceptions of disabilities and advocate for gender equality and disability rights. \nRegister for this event HERE.
URL:https://wacmaine.org/event/empowering-women-and-girls-with-disabilities-fighting-discrimination-and-promoting-inclusion/
LOCATION:Hannaford Hall\, 88 Bedford St\, Portland\, ME\, 04101\, United States
CATEGORIES:Community
END:VEVENT
END:VCALENDAR