BEGIN:VCALENDAR
VERSION:2.0
PRODID:-//World Affairs Council of Maine - ECPv6.15.18//NONSGML v1.0//EN
CALSCALE:GREGORIAN
METHOD:PUBLISH
X-ORIGINAL-URL:https://wacmaine.org
X-WR-CALDESC:Events for World Affairs Council of Maine
REFRESH-INTERVAL;VALUE=DURATION:PT1H
X-Robots-Tag:noindex
X-PUBLISHED-TTL:PT1H
BEGIN:VTIMEZONE
TZID:America/New_York
BEGIN:DAYLIGHT
TZOFFSETFROM:-0500
TZOFFSETTO:-0400
TZNAME:EDT
DTSTART:20230312T070000
END:DAYLIGHT
BEGIN:STANDARD
TZOFFSETFROM:-0400
TZOFFSETTO:-0500
TZNAME:EST
DTSTART:20231105T060000
END:STANDARD
BEGIN:DAYLIGHT
TZOFFSETFROM:-0500
TZOFFSETTO:-0400
TZNAME:EDT
DTSTART:20240310T070000
END:DAYLIGHT
BEGIN:STANDARD
TZOFFSETFROM:-0400
TZOFFSETTO:-0500
TZNAME:EST
DTSTART:20241103T060000
END:STANDARD
BEGIN:DAYLIGHT
TZOFFSETFROM:-0500
TZOFFSETTO:-0400
TZNAME:EDT
DTSTART:20250309T070000
END:DAYLIGHT
BEGIN:STANDARD
TZOFFSETFROM:-0400
TZOFFSETTO:-0500
TZNAME:EST
DTSTART:20251102T060000
END:STANDARD
END:VTIMEZONE
BEGIN:VEVENT
DTSTART;TZID=America/New_York:20241010T170000
DTEND;TZID=America/New_York:20241010T190000
DTSTAMP:20260421T120627
CREATED:20240912T183428Z
LAST-MODIFIED:20240912T184748Z
UID:10000073-1728579600-1728586800@wacmaine.org
SUMMARY:Eagle Hill Discussion Forum: Mexico and the Upcoming US Presidential Election
DESCRIPTION:Alan Riding is a Brazilian-born British journalist and writer whose career took him first to New York with Reuters\, then to Mexico for The Financial Times and The Economist. In 1978\, he joined The New York Times and\, from Mexico\, he also covered the Nicaraguan Revolution and the civil wars in El Salvador and Guatemala. In 1984\, he moved to Brazil\, his base for covering the drug and guerrilla wars in Colombia and Peru\, before returning to Europe in 1989. After five years as The New York Times’s bureau chief in Paris\, he became the newspaper’s European Cultural Correspondent until he left the paper in 2007. Among his books are Distant Neighbors: A Portrait of the Mexicans; Essential Shakespeare Handbook and Opera\, of which he is co-author; and And The Show Went On: Cultural Life in Nazi-Occupied Paris. \nFor the best part of 70 years\, the US could ignore Mexico in the knowledge that its one-party system would insure stability. Then\, in 2000\, this “perfect dictatorship” ended in an electoral defeat\, bringing instability in the form of intense drug-related violence and tidal waves of immigrants from across the world trying to reach the US through Mexico. Six years ago\, a leftist populist\, Andrés Manuel López Obrador\, became president under the banner of a new nationalist party\, known as Morena\, which he sought to model on the old PRI\, or Institutional Revolutionary Party. On October 1\, his hand-picked successor\, Claudia Sheinbaum\, took office\, pledging to continue her mentor’s controversial policies. Looking ahead\, Washington can probably ignore the erosion of democracy in Mexico\, but whoever wins the White House on November 5 will have to address the double border crisis of drugs and refugees. How President Sheinbaum responds to US pressure will determine the state of bilateral relations for the next six years. And how these and other issues such as bilateral trade are handled will unavoidably influence the outcome of next month’s and future US presidential elections. \nRegister for this discussion by emailing joerg@eaglehill.us by 10AM ET on the day of the event.
URL:https://wacmaine.org/event/eagle-hill-discussion-forum-mexico-and-the-upcoming-us-presidential-election/
LOCATION:ME
CATEGORIES:Community
ORGANIZER;CN="Eagle Hill Discussion Forum":MAILTO:joerg@eaglehill.us
END:VEVENT
END:VCALENDAR