BEGIN:VCALENDAR
VERSION:2.0
PRODID:-//World Affairs Council of Maine - ECPv6.15.18//NONSGML v1.0//EN
CALSCALE:GREGORIAN
METHOD:PUBLISH
X-ORIGINAL-URL:https://wacmaine.org
X-WR-CALDESC:Events for World Affairs Council of Maine
REFRESH-INTERVAL;VALUE=DURATION:PT1H
X-Robots-Tag:noindex
X-PUBLISHED-TTL:PT1H
BEGIN:VTIMEZONE
TZID:America/New_York
BEGIN:DAYLIGHT
TZOFFSETFROM:-0500
TZOFFSETTO:-0400
TZNAME:EDT
DTSTART:20230312T070000
END:DAYLIGHT
BEGIN:STANDARD
TZOFFSETFROM:-0400
TZOFFSETTO:-0500
TZNAME:EST
DTSTART:20231105T060000
END:STANDARD
BEGIN:DAYLIGHT
TZOFFSETFROM:-0500
TZOFFSETTO:-0400
TZNAME:EDT
DTSTART:20240310T070000
END:DAYLIGHT
BEGIN:STANDARD
TZOFFSETFROM:-0400
TZOFFSETTO:-0500
TZNAME:EST
DTSTART:20241103T060000
END:STANDARD
BEGIN:DAYLIGHT
TZOFFSETFROM:-0500
TZOFFSETTO:-0400
TZNAME:EDT
DTSTART:20250309T070000
END:DAYLIGHT
BEGIN:STANDARD
TZOFFSETFROM:-0400
TZOFFSETTO:-0500
TZNAME:EST
DTSTART:20251102T060000
END:STANDARD
END:VTIMEZONE
BEGIN:VEVENT
DTSTART;TZID=America/New_York:20241121T100000
DTEND;TZID=America/New_York:20241121T110000
DTSTAMP:20260421T103205
CREATED:20241010T183321Z
LAST-MODIFIED:20241010T183323Z
UID:10000091-1732183200-1732186800@wacmaine.org
SUMMARY:Coffee and Discussion (In-Person)
DESCRIPTION:A monthly discussion of world events for members. In-person meetings are held every third Thursday of the month at the Falmouth Memorial Library\, 10am-11am. Register HERE
URL:https://wacmaine.org/event/coffee-and-discussion-in-person-3/
LOCATION:Falmouth Memorial Library\, 5 Lunt Road\, Falmouth\, ME\, 04105\, United States
CATEGORIES:Coffee and Discussion
ATTACH;FMTTYPE=image/png:https://wacmaine.org/wp-content/uploads/2024/05/FY25-WEB-Coffe-Icon-e1722544254657.png
ORGANIZER;CN="World Affairs Council of Maine":MAILTO:info@wacmaine.org
END:VEVENT
BEGIN:VEVENT
DTSTART;TZID=America/New_York:20241121T173000
DTEND;TZID=America/New_York:20241121T190000
DTSTAMP:20260421T103205
CREATED:20241115T002551Z
LAST-MODIFIED:20241115T002551Z
UID:10000108-1732210200-1732215600@wacmaine.org
SUMMARY:Evening Extra: Contested Nuclear Taboo in the Third Nuclear Age
DESCRIPTION:Over the past decade\, there have been growing concerns that the renewed great power competition and the increasing salience of nuclear weapons in world politics could eventually lead to the erosion of the international norm against the use of nuclear weapons – the “nuclear taboo.” Join students and faculty with the Department of Political Science to hear Prof. Michael Smenta discuss his new book on how the normative prohibition against using nuclear weapons persists in world politics and may have been reaffirmed by the world’s response to Moscow’s saber-rattling in Ukraine. Rebecca Davis Gibbons\, Associate Professor of Political Science at USM\, will moderate the discussion. \nWith Professor Michal Smetana\, Director of the Peace Research Center Prague (PRCP)\, moderated by Prof. Rebecca Davis Gibbons. Co-sponsored by The World Affairs Council of Maine. This event is free and open to the public. \nPlease register HERE
URL:https://wacmaine.org/event/evening-extra-contested-nuclear-taboo-in-the-third-nuclear-age/
LOCATION:University of Southern Maine\, 102 Wishcamper\, 34 Bedford St\, Portland\, ME\, 04101\, United States
CATEGORIES:In Partnership
END:VEVENT
END:VCALENDAR