BEGIN:VCALENDAR
VERSION:2.0
PRODID:-//World Affairs Council of Maine - ECPv6.15.18//NONSGML v1.0//EN
CALSCALE:GREGORIAN
METHOD:PUBLISH
X-ORIGINAL-URL:https://wacmaine.org
X-WR-CALDESC:Events for World Affairs Council of Maine
REFRESH-INTERVAL;VALUE=DURATION:PT1H
X-Robots-Tag:noindex
X-PUBLISHED-TTL:PT1H
BEGIN:VTIMEZONE
TZID:America/New_York
BEGIN:DAYLIGHT
TZOFFSETFROM:-0500
TZOFFSETTO:-0400
TZNAME:EDT
DTSTART:20230312T070000
END:DAYLIGHT
BEGIN:STANDARD
TZOFFSETFROM:-0400
TZOFFSETTO:-0500
TZNAME:EST
DTSTART:20231105T060000
END:STANDARD
BEGIN:DAYLIGHT
TZOFFSETFROM:-0500
TZOFFSETTO:-0400
TZNAME:EDT
DTSTART:20240310T070000
END:DAYLIGHT
BEGIN:STANDARD
TZOFFSETFROM:-0400
TZOFFSETTO:-0500
TZNAME:EST
DTSTART:20241103T060000
END:STANDARD
BEGIN:DAYLIGHT
TZOFFSETFROM:-0500
TZOFFSETTO:-0400
TZNAME:EDT
DTSTART:20250309T070000
END:DAYLIGHT
BEGIN:STANDARD
TZOFFSETFROM:-0400
TZOFFSETTO:-0500
TZNAME:EST
DTSTART:20251102T060000
END:STANDARD
END:VTIMEZONE
BEGIN:VEVENT
DTSTART;TZID=America/New_York:20241219T100000
DTEND;TZID=America/New_York:20241219T110000
DTSTAMP:20260421T085035
CREATED:20241010T183412Z
LAST-MODIFIED:20241215T150908Z
UID:10000092-1734602400-1734606000@wacmaine.org
SUMMARY:Syria: Coffee and Discussion (In-Person)
DESCRIPTION:For this month’s in-person coffee\, we will discuss events in Syria. A monthly discussion of world events for members. In-person meetings are held every third Thursday of the month at the Falmouth Memorial Library\, 10am-11am. \nMember’s Register HERE\nHere are some suggested readings. \n\nTeam\, B. T. V. J. (2024\, December 13). Syria in maps: Who controls the country now Assad has gone?  \n\nMacFarquhar\, N.\, & Scheck\, J. (2024\, December 15). How might the rebels govern Syria? Their ruling history in Idlib offers clues. The New York Times. \n\nStatelet of Survivors. (2024.). Hardcover – Amy Austin Holmes – Oxford University Press. \n\n\n\n We also recommend you tune into our upcoming Wednesday Night Webinar with Amy Austin Holmes! \nREGISTER HERE
URL:https://wacmaine.org/event/coffee-and-discussion-in-person-4/
LOCATION:Falmouth Memorial Library\, 5 Lunt Road\, Falmouth\, ME\, 04105\, United States
CATEGORIES:Coffee and Discussion
ATTACH;FMTTYPE=image/png:https://wacmaine.org/wp-content/uploads/2024/05/FY25-WEB-Coffe-Icon-e1722544254657.png
ORGANIZER;CN="World Affairs Council of Maine":MAILTO:info@wacmaine.org
END:VEVENT
END:VCALENDAR