BEGIN:VCALENDAR
VERSION:2.0
PRODID:-//World Affairs Council of Maine - ECPv6.15.18//NONSGML v1.0//EN
CALSCALE:GREGORIAN
METHOD:PUBLISH
X-WR-CALNAME:World Affairs Council of Maine
X-ORIGINAL-URL:https://wacmaine.org
X-WR-CALDESC:Events for World Affairs Council of Maine
REFRESH-INTERVAL;VALUE=DURATION:PT1H
X-Robots-Tag:noindex
X-PUBLISHED-TTL:PT1H
BEGIN:VTIMEZONE
TZID:America/New_York
BEGIN:DAYLIGHT
TZOFFSETFROM:-0500
TZOFFSETTO:-0400
TZNAME:EDT
DTSTART:20240310T070000
END:DAYLIGHT
BEGIN:STANDARD
TZOFFSETFROM:-0400
TZOFFSETTO:-0500
TZNAME:EST
DTSTART:20241103T060000
END:STANDARD
BEGIN:DAYLIGHT
TZOFFSETFROM:-0500
TZOFFSETTO:-0400
TZNAME:EDT
DTSTART:20250309T070000
END:DAYLIGHT
BEGIN:STANDARD
TZOFFSETFROM:-0400
TZOFFSETTO:-0500
TZNAME:EST
DTSTART:20251102T060000
END:STANDARD
BEGIN:DAYLIGHT
TZOFFSETFROM:-0500
TZOFFSETTO:-0400
TZNAME:EDT
DTSTART:20260308T070000
END:DAYLIGHT
BEGIN:STANDARD
TZOFFSETFROM:-0400
TZOFFSETTO:-0500
TZNAME:EST
DTSTART:20261101T060000
END:STANDARD
END:VTIMEZONE
BEGIN:VEVENT
DTSTART;TZID=America/New_York:20250219T080000
DTEND;TZID=America/New_York:20250219T170000
DTSTAMP:20260421T054604
CREATED:20250319T213019Z
LAST-MODIFIED:20250219T205412Z
UID:10000121-1739952000-1739984400@wacmaine.org
SUMMARY:Greenland: Reshaping Arctic Diplomacy and US Strategy
DESCRIPTION:Great Decisions 2025: US Foreign Policy at a Crossroads\nGreenland: Reshaping Arctic Diplomacy and US Strategy\nDate: Wednesday\, March 19\, 2025\nTime: 5:30 PM – 7:30 PM\nLocation: TBD \n \nJoin the World Affairs Council of Maine for the fourth event in our 2025 Great Decisions Series\, “US Foreign Policy at a Crossroads.” As climate change transforms the Arctic landscape\, Greenland has become a focal point of international attention. Its strategic location\, vast natural resources\, and evolving political status present both challenges and opportunities for US diplomacy and global security. This timely discussion will explore the complex dynamics shaping Greenland’s future and its impact on global affairs\, particularly U.S. foreign policy and Arctic cooperation. \n \nFeatured Speakers: \nCharles H. Norchi\, JD\, LLM\, JSD\nBenjamin Thompson Professor of Law\, University of Maine School of Law\nDirector\, Center for Oceans & Coastal Law \n \nProfessor Norchi is an expert in international law and Arctic policy. His extensive experience includes serving as the Fulbright-Ministry of Foreign Affairs Arctic Scholar in Iceland and advising on ocean and coastal law issues worldwide. \n \nAmanda H. Lynch\, PhD\nSloan and George Lindemann Jr. Distinguished Professor of Environment and Society\, Brown University\nChair\, Research Board of the United Nations World Meteorological Organization \n \nProfessor Lynch is a leading atmospheric scientist specializing in Arctic climate systems. Her groundbreaking work includes developing the first Arctic regional climate system model and exploring the interplay between climate science and environmental governance. \n \nOur distinguished speakers will address: \n\n\nGreenland’s evolving role in Arctic geopolitics \n\n\nThe impact of climate change on regional dynamics \n\n\nUS policy challenges and opportunities in the High North \n\n\nThe future of international cooperation in the Arctic \n\n\nDon’t miss this opportunity to gain insights into one of the most pressing issues in contemporary international relations. We look forward to your participation in this engaging and informative discussion. \n📅 Date: March 19\, 2025\n📍 Location: TBD\n⏰ Time: 5:30 – 7:30 \nTickets: \n$15 for members \n$20 non-members \nMaine Students FREE \nREGISTER HERE
URL:https://wacmaine.org/event/greenland-reshaping-arctic-diplomacy-and-us-strategy/
LOCATION:ME
CATEGORIES:Great Decisions
END:VEVENT
END:VCALENDAR