BEGIN:VCALENDAR
VERSION:2.0
PRODID:-//World Affairs Council of Maine - ECPv6.15.18//NONSGML v1.0//EN
CALSCALE:GREGORIAN
METHOD:PUBLISH
X-ORIGINAL-URL:https://wacmaine.org
X-WR-CALDESC:Events for World Affairs Council of Maine
REFRESH-INTERVAL;VALUE=DURATION:PT1H
X-Robots-Tag:noindex
X-PUBLISHED-TTL:PT1H
BEGIN:VTIMEZONE
TZID:America/New_York
BEGIN:DAYLIGHT
TZOFFSETFROM:-0500
TZOFFSETTO:-0400
TZNAME:EDT
DTSTART:20240310T070000
END:DAYLIGHT
BEGIN:STANDARD
TZOFFSETFROM:-0400
TZOFFSETTO:-0500
TZNAME:EST
DTSTART:20241103T060000
END:STANDARD
BEGIN:DAYLIGHT
TZOFFSETFROM:-0500
TZOFFSETTO:-0400
TZNAME:EDT
DTSTART:20250309T070000
END:DAYLIGHT
BEGIN:STANDARD
TZOFFSETFROM:-0400
TZOFFSETTO:-0500
TZNAME:EST
DTSTART:20251102T060000
END:STANDARD
BEGIN:DAYLIGHT
TZOFFSETFROM:-0500
TZOFFSETTO:-0400
TZNAME:EDT
DTSTART:20260308T070000
END:DAYLIGHT
BEGIN:STANDARD
TZOFFSETFROM:-0400
TZOFFSETTO:-0500
TZNAME:EST
DTSTART:20261101T060000
END:STANDARD
END:VTIMEZONE
BEGIN:VEVENT
DTSTART;TZID=America/New_York:20250301T080000
DTEND;TZID=America/New_York:20250301T170000
DTSTAMP:20260421T040716
CREATED:20250226T155658Z
LAST-MODIFIED:20250226T155658Z
UID:10000123-1740816000-1740848400@wacmaine.org
SUMMARY:Maine Jewish Film Festival
DESCRIPTION:The annual Maine Jewish Film Festival will take place from March 1-9.  This year’s lineup includes a Colombian documentary about a community of orthodox Jewish converts in Cali\, a French legal docudrama\, a documentary about a renowned Polish painter who is still in the news today\, an Israeli documentary about a Dutch philosopher\, a documentary about an Indian boy who wants to become a dancer\, and a documentary focused on how to find human connection in the Arab-Israeli conflict.  Full details\, schedule\, and tickets at www.mjff.org. \nThis is a community event shared to encourage global engagement in Maine. Please contact the organizers directly for questions or assistance. #MaineisGlobal!
URL:https://wacmaine.org/event/maine-jewish-film-festival/2025-03-01/1/
LOCATION:ME
CATEGORIES:Community
ORGANIZER;CN="Maine Jewish Film Festival":MAILTO:https://mjff.org/contact/
END:VEVENT
BEGIN:VEVENT
DTSTART;TZID=America/New_York:20250301T170000
DTEND;TZID=America/New_York:20250309T160000
DTSTAMP:20260421T040716
CREATED:20250226T155658Z
LAST-MODIFIED:20250226T155658Z
UID:10000124-1740848400-1741536000@wacmaine.org
SUMMARY:Maine Jewish Film Festival
DESCRIPTION:The annual Maine Jewish Film Festival will take place from March 1-9.  This year’s lineup includes a Colombian documentary about a community of orthodox Jewish converts in Cali\, a French legal docudrama\, a documentary about a renowned Polish painter who is still in the news today\, an Israeli documentary about a Dutch philosopher\, a documentary about an Indian boy who wants to become a dancer\, and a documentary focused on how to find human connection in the Arab-Israeli conflict.  Full details\, schedule\, and tickets at www.mjff.org. \nThis is a community event shared to encourage global engagement in Maine. Please contact the organizers directly for questions or assistance. #MaineisGlobal!
URL:https://wacmaine.org/event/maine-jewish-film-festival/2025-03-01/2/
LOCATION:ME
CATEGORIES:Community
ORGANIZER;CN="Maine Jewish Film Festival":MAILTO:https://mjff.org/contact/
END:VEVENT
END:VCALENDAR