BEGIN:VCALENDAR
VERSION:2.0
PRODID:-//World Affairs Council of Maine - ECPv6.15.18//NONSGML v1.0//EN
CALSCALE:GREGORIAN
METHOD:PUBLISH
X-WR-CALNAME:World Affairs Council of Maine
X-ORIGINAL-URL:https://wacmaine.org
X-WR-CALDESC:Events for World Affairs Council of Maine
REFRESH-INTERVAL;VALUE=DURATION:PT1H
X-Robots-Tag:noindex
X-PUBLISHED-TTL:PT1H
BEGIN:VTIMEZONE
TZID:America/New_York
BEGIN:DAYLIGHT
TZOFFSETFROM:-0500
TZOFFSETTO:-0400
TZNAME:EDT
DTSTART:20240310T070000
END:DAYLIGHT
BEGIN:STANDARD
TZOFFSETFROM:-0400
TZOFFSETTO:-0500
TZNAME:EST
DTSTART:20241103T060000
END:STANDARD
BEGIN:DAYLIGHT
TZOFFSETFROM:-0500
TZOFFSETTO:-0400
TZNAME:EDT
DTSTART:20250309T070000
END:DAYLIGHT
BEGIN:STANDARD
TZOFFSETFROM:-0400
TZOFFSETTO:-0500
TZNAME:EST
DTSTART:20251102T060000
END:STANDARD
BEGIN:DAYLIGHT
TZOFFSETFROM:-0500
TZOFFSETTO:-0400
TZNAME:EDT
DTSTART:20260308T070000
END:DAYLIGHT
BEGIN:STANDARD
TZOFFSETFROM:-0400
TZOFFSETTO:-0500
TZNAME:EST
DTSTART:20261101T060000
END:STANDARD
END:VTIMEZONE
BEGIN:VEVENT
DTSTART;TZID=America/New_York:20250320T100000
DTEND;TZID=America/New_York:20250320T110000
DTSTAMP:20260421T040641
CREATED:20241010T183631Z
LAST-MODIFIED:20250317T211642Z
UID:10000095-1742464800-1742468400@wacmaine.org
SUMMARY:This session is cancelled:Coffee and Discussion (In-Person)
DESCRIPTION:CANCELLED DUE TO LACK OF REGISTRATION.
URL:https://wacmaine.org/event/coffee-and-discussion-in-person-7/
LOCATION:Falmouth Memorial Library\, 5 Lunt Road\, Falmouth\, ME\, 04105\, United States
CATEGORIES:Coffee and Discussion
ATTACH;FMTTYPE=image/png:https://wacmaine.org/wp-content/uploads/2024/05/FY25-WEB-Coffe-Icon-e1722544254657.png
ORGANIZER;CN="World Affairs Council of Maine":MAILTO:info@wacmaine.org
END:VEVENT
END:VCALENDAR