BEGIN:VCALENDAR
VERSION:2.0
PRODID:-//World Affairs Council of Maine - ECPv6.15.18//NONSGML v1.0//EN
CALSCALE:GREGORIAN
METHOD:PUBLISH
X-WR-CALNAME:World Affairs Council of Maine
X-ORIGINAL-URL:https://wacmaine.org
X-WR-CALDESC:Events for World Affairs Council of Maine
REFRESH-INTERVAL;VALUE=DURATION:PT1H
X-Robots-Tag:noindex
X-PUBLISHED-TTL:PT1H
BEGIN:VTIMEZONE
TZID:America/New_York
BEGIN:DAYLIGHT
TZOFFSETFROM:-0500
TZOFFSETTO:-0400
TZNAME:EDT
DTSTART:20250309T070000
END:DAYLIGHT
BEGIN:STANDARD
TZOFFSETFROM:-0400
TZOFFSETTO:-0500
TZNAME:EST
DTSTART:20251102T060000
END:STANDARD
BEGIN:DAYLIGHT
TZOFFSETFROM:-0500
TZOFFSETTO:-0400
TZNAME:EDT
DTSTART:20260308T070000
END:DAYLIGHT
BEGIN:STANDARD
TZOFFSETFROM:-0400
TZOFFSETTO:-0500
TZNAME:EST
DTSTART:20261101T060000
END:STANDARD
BEGIN:DAYLIGHT
TZOFFSETFROM:-0500
TZOFFSETTO:-0400
TZNAME:EDT
DTSTART:20270314T070000
END:DAYLIGHT
BEGIN:STANDARD
TZOFFSETFROM:-0400
TZOFFSETTO:-0500
TZNAME:EST
DTSTART:20271107T060000
END:STANDARD
END:VTIMEZONE
BEGIN:VEVENT
DTSTART;TZID=America/New_York:20260326T173000
DTEND;TZID=America/New_York:20260326T193000
DTSTAMP:20260422T063317
CREATED:20260107T164800Z
LAST-MODIFIED:20260107T165430Z
UID:10000159-1774546200-1774553400@wacmaine.org
SUMMARY:Great Decisions 2026: U.S. Engagement in Africa
DESCRIPTION:Great Decisions 2026: The Future of U.S. Global Leadership Keynote Series \nU.S. Engagement in Africa\nwith Michelle Lenihan\, Deputy Commissioner\, Maine DVEM (former Acting Deputy Assistant Secretary of Defense for African Affairs) and Matthew T. Page\, Associate Fellow\, Africa Programme\, Chatham House \nMarch 26\, 2026\, 5:30-7:30 PM\, 34 Bedford Street\, Portland \nAs great power competition intensifies across Africa\, what should guide American engagement with the world’s youngest and fastest-growing continent? Michelle Lenihan shaped U.S. Africa policy at the highest levels of the Pentagon and the National Security Council before returning to Maine\, where she now serves as Deputy Commissioner for Defense\, Veterans\, and Emergency Management. Matthew Page\, formerly the U.S. intelligence community’s top Nigeria expert\, provides in-depth analysis on governance\, security\, and corruption across the continent. Together\, they offer insider and expert perspectives on the opportunities and challenges of U.S.-Africa relations. \nAddress: Lee Auditorium\, Wishcamper Center\, 34 Bedford Street\, Portland 5:30-6:15 PM: Reception 6:15-7:30 PM: Keynote \n\nGreat Decisions is the largest and longest-running discussion program on foreign policy in the United States\, offered locally by the World Affairs Council of Maine since 1980. Thanks to the generous support of our Global Benefactor “Coffee by Design\,” we are offering a public lecture series in addition to our regular discussion series co-hosted with the Falmouth Memorial Library. \nNote: Public lectures will be recorded to support Great Decisions discussion groups in Maine\, including our annual member-facilitated series at the Falmouth Library beginning March 24\, 2026. \nReserve your spot today and be part of this essential conversation on the crossroads of American foreign policy. \nTickets: \n$12 for members \n$20 non-members \nMaine Students FREE \nREGISTER HERE \n 
URL:https://wacmaine.org/event/great-decisions-2026-u-s-engagement-in-africa/
LOCATION:Lee Auditorium\, Wishcamper Center\, 34 Bedfort St\, Portland\, ME\, 04104\, United States
CATEGORIES:Great Decisions
ATTACH;FMTTYPE=image/png:https://wacmaine.org/wp-content/uploads/2026/01/FY26-GD-Africa-512-x-512-px.png
ORGANIZER;CN="World Affairs Council of Maine":MAILTO:info@wacmaine.org
END:VEVENT
END:VCALENDAR