BEGIN:VCALENDAR
VERSION:2.0
PRODID:-//World Affairs Council of Maine - ECPv6.15.18//NONSGML v1.0//EN
CALSCALE:GREGORIAN
METHOD:PUBLISH
X-ORIGINAL-URL:https://wacmaine.org
X-WR-CALDESC:Events for World Affairs Council of Maine
REFRESH-INTERVAL;VALUE=DURATION:PT1H
X-Robots-Tag:noindex
X-PUBLISHED-TTL:PT1H
BEGIN:VTIMEZONE
TZID:America/New_York
BEGIN:DAYLIGHT
TZOFFSETFROM:-0500
TZOFFSETTO:-0400
TZNAME:EDT
DTSTART:20240310T070000
END:DAYLIGHT
BEGIN:STANDARD
TZOFFSETFROM:-0400
TZOFFSETTO:-0500
TZNAME:EST
DTSTART:20241103T060000
END:STANDARD
BEGIN:DAYLIGHT
TZOFFSETFROM:-0500
TZOFFSETTO:-0400
TZNAME:EDT
DTSTART:20250309T070000
END:DAYLIGHT
BEGIN:STANDARD
TZOFFSETFROM:-0400
TZOFFSETTO:-0500
TZNAME:EST
DTSTART:20251102T060000
END:STANDARD
BEGIN:DAYLIGHT
TZOFFSETFROM:-0500
TZOFFSETTO:-0400
TZNAME:EDT
DTSTART:20260308T070000
END:DAYLIGHT
BEGIN:STANDARD
TZOFFSETFROM:-0400
TZOFFSETTO:-0500
TZNAME:EST
DTSTART:20261101T060000
END:STANDARD
END:VTIMEZONE
BEGIN:VEVENT
DTSTART;TZID=America/New_York:20250102T100000
DTEND;TZID=America/New_York:20250102T110000
DTSTAMP:20260421T054558
CREATED:20241010T182608Z
LAST-MODIFIED:20241010T182609Z
UID:10000102-1735812000-1735815600@wacmaine.org
SUMMARY:Coffee and Discussion (Virtual)
DESCRIPTION:Join us via zoom on the first Thursday of every month\, 10am-11am\, for our members Coffee and Discussion meeting. A zoom link will be sent to your email upon registration! Register HERE
URL:https://wacmaine.org/event/coffee-and-discussion-virtual-5/
LOCATION:ME
CATEGORIES:Coffee and Discussion
ATTACH;FMTTYPE=image/png:https://wacmaine.org/wp-content/uploads/2024/05/FY25-WEB-Coffe-Icon-e1722544254657.png
ORGANIZER;CN="World Affairs Council of Maine":MAILTO:info@wacmaine.org
END:VEVENT
BEGIN:VEVENT
DTSTART;TZID=America/New_York:20250116T100000
DTEND;TZID=America/New_York:20250116T110000
DTSTAMP:20260421T054558
CREATED:20241010T183504Z
LAST-MODIFIED:20241010T183505Z
UID:10000093-1737021600-1737025200@wacmaine.org
SUMMARY:Coffee and Discussion (In-Person)
DESCRIPTION:A monthly discussion of world events for members. In-person meetings are held every third Thursday of the month at the Falmouth Memorial Library\, 10am-11am. Register HERE
URL:https://wacmaine.org/event/coffee-and-discussion-in-person-5/
LOCATION:Falmouth Memorial Library\, 5 Lunt Road\, Falmouth\, ME\, 04105\, United States
CATEGORIES:Coffee and Discussion
ATTACH;FMTTYPE=image/png:https://wacmaine.org/wp-content/uploads/2024/05/FY25-WEB-Coffe-Icon-e1722544254657.png
ORGANIZER;CN="World Affairs Council of Maine":MAILTO:info@wacmaine.org
END:VEVENT
BEGIN:VEVENT
DTSTART;TZID=America/New_York:20250129T173000
DTEND;TZID=America/New_York:20250129T200000
DTSTAMP:20260421T054558
CREATED:20250121T170603Z
LAST-MODIFIED:20250121T210518Z
UID:10000116-1738171800-1738180800@wacmaine.org
SUMMARY:U.S. Foreign Policy at a Crossroads\, with Secretary William S. Cohen
DESCRIPTION:U.S. Foreign Policy at a Crossroads\nFeaturing Secretary William S. Cohen\nModerated by: Sarah Dawn Petrin\, World Affairs Council of Maine\, Nonresident Senior Fellow Atlantic Council \nJoin the World Affairs Council of Maine for a thought-provoking evening with Secretary William S. Cohen\, former U.S. Secretary of Defense (1997–2001)\, Senator (1979–1997)\, and Congressman (1973–1979). As Chairman of The Cohen Group\, Secretary Cohen brings decades of experience and insight into the complexities of American foreign policy at this pivotal moment in history. \nModerated by Sarah Dawn Petrin\, 2nd Vice President of the World Affairs Council of Maine and Nonresident Senior Fellow at the Atlantic Council\, this event will be a unique opportunity to examine complex issues\, ask questions\, and connect with others passionate about understanding and shaping our world. The evening will begin with a short networking reception. \nThis inaugural public lecture of our 2025 Great Decisions Series\, sponsored by Coffee by Design\, our 2025 Global Benefactor. The series will delve into pressing global challenges and the decisions shaping the United States’ future role on the world stage. \n📅 Date: January 29\, 2025\n📍 Location: Preti Flaherty\, One City Center\, Portland Maine\n⏰ Time: 5:30 – 8:00  \nReserve your spot today and be part of this essential conversation on the crossroads of American foreign policy. \nTickets: \n$15 for members \n$20 non-members \nMaine Students FREE \nREGISTER HERE \nREGISTER HERE
URL:https://wacmaine.org/event/u-s-foreign-policy-at-a-crossroads-with-secretary-william-s-cohen/
LOCATION:ME
CATEGORIES:Great Decisions
ATTACH;FMTTYPE=image/png:https://wacmaine.org/wp-content/uploads/2025/01/FY25-GD-Icon-Cohen-2.png
END:VEVENT
END:VCALENDAR